BEGIN:VCALENDAR
VERSION:2.0
PRODID:-//Down Syndrome Association of Wisconsin - ECPv6.15.17//NONSGML v1.0//EN
CALSCALE:GREGORIAN
METHOD:PUBLISH
X-WR-CALNAME:Down Syndrome Association of Wisconsin
X-ORIGINAL-URL:https://www.dsaw.org
X-WR-CALDESC:Events for Down Syndrome Association of Wisconsin
REFRESH-INTERVAL;VALUE=DURATION:PT1H
X-Robots-Tag:noindex
X-PUBLISHED-TTL:PT1H
BEGIN:VTIMEZONE
TZID:America/Chicago
BEGIN:DAYLIGHT
TZOFFSETFROM:-0600
TZOFFSETTO:-0500
TZNAME:CDT
DTSTART:20250309T080000
END:DAYLIGHT
BEGIN:STANDARD
TZOFFSETFROM:-0500
TZOFFSETTO:-0600
TZNAME:CST
DTSTART:20251102T070000
END:STANDARD
BEGIN:DAYLIGHT
TZOFFSETFROM:-0600
TZOFFSETTO:-0500
TZNAME:CDT
DTSTART:20260308T080000
END:DAYLIGHT
BEGIN:STANDARD
TZOFFSETFROM:-0500
TZOFFSETTO:-0600
TZNAME:CST
DTSTART:20261101T070000
END:STANDARD
BEGIN:DAYLIGHT
TZOFFSETFROM:-0600
TZOFFSETTO:-0500
TZNAME:CDT
DTSTART:20270314T080000
END:DAYLIGHT
BEGIN:STANDARD
TZOFFSETFROM:-0500
TZOFFSETTO:-0600
TZNAME:CST
DTSTART:20271107T070000
END:STANDARD
END:VTIMEZONE
BEGIN:VEVENT
DTSTART;TZID=America/Chicago:20260422T103000
DTEND;TZID=America/Chicago:20260422T113000
DTSTAMP:20260422T030525
CREATED:20260319T023617Z
LAST-MODIFIED:20260319T023617Z
UID:10000873-1776853800-1776857400@www.dsaw.org
SUMMARY:Story Time Stay & Play (ages 3-6) Meet Up
DESCRIPTION:Join other DSAW friends for a story time and open play for littles ages 3-6. (older siblings are welcome to attend) Wauwatosa Public Library hosts this event weekly and we’re joining them for a fun-filled morning!
URL:https://www.dsaw.org/event/story-time-stay-play-ages-3-6-meet-up/
LOCATION:Wauwatosa Public Library\, 7635 W. North Avenue\, Wauwatosa\, WI\, 53213\, United States
CATEGORIES:Families
END:VEVENT
BEGIN:VEVENT
DTSTART;TZID=America/Chicago:20260422T190000
DTEND;TZID=America/Chicago:20260422T200000
DTSTAMP:20260422T030525
CREATED:20260419T210604Z
LAST-MODIFIED:20260419T210935Z
UID:10000900-1776884400-1776888000@www.dsaw.org
SUMMARY:Parent Led IEP Training
DESCRIPTION:Join us for a parent led virtual informational meeting where board members Angela\, and Amanda will be joined by Emma\, a Turtle Lake SpEd teacher. They will lead a friendly training that will help you better understand the IEP process and how to support your child’s education journey. \nTopics we will cover include: \nWhat is an IEP?\nHow to help your child’s team get to know your child.\nHow to be prepared for an IEP meeting including a pre and post checklist.\nWhat can be included in an IEP – what you can ask for and who to ask.\nWhether you’re new to special education or want to feel more confident in working with your child’s school\, this session will give you helpful tools to strengthen skills and make sure your child gets the support they deserve. \n\n\n\nAfter you register and before the meeting date\, you will be sent a link to click on when the group starts.
URL:https://www.dsaw.org/event/parent-led-iep-training/
CATEGORIES:Families,General Public
END:VEVENT
END:VCALENDAR