BEGIN:VCALENDAR
VERSION:2.0
PRODID:-//Down Syndrome Association of Wisconsin - ECPv6.15.17//NONSGML v1.0//EN
CALSCALE:GREGORIAN
METHOD:PUBLISH
X-WR-CALNAME:Down Syndrome Association of Wisconsin
X-ORIGINAL-URL:https://www.dsaw.org
X-WR-CALDESC:Events for Down Syndrome Association of Wisconsin
REFRESH-INTERVAL;VALUE=DURATION:PT1H
X-Robots-Tag:noindex
X-PUBLISHED-TTL:PT1H
BEGIN:VTIMEZONE
TZID:America/Chicago
BEGIN:DAYLIGHT
TZOFFSETFROM:-0600
TZOFFSETTO:-0500
TZNAME:CDT
DTSTART:20240310T080000
END:DAYLIGHT
BEGIN:STANDARD
TZOFFSETFROM:-0500
TZOFFSETTO:-0600
TZNAME:CST
DTSTART:20241103T070000
END:STANDARD
BEGIN:DAYLIGHT
TZOFFSETFROM:-0600
TZOFFSETTO:-0500
TZNAME:CDT
DTSTART:20250309T080000
END:DAYLIGHT
BEGIN:STANDARD
TZOFFSETFROM:-0500
TZOFFSETTO:-0600
TZNAME:CST
DTSTART:20251102T070000
END:STANDARD
BEGIN:DAYLIGHT
TZOFFSETFROM:-0600
TZOFFSETTO:-0500
TZNAME:CDT
DTSTART:20260308T080000
END:DAYLIGHT
BEGIN:STANDARD
TZOFFSETFROM:-0500
TZOFFSETTO:-0600
TZNAME:CST
DTSTART:20261101T070000
END:STANDARD
END:VTIMEZONE
BEGIN:VEVENT
DTSTART;TZID=America/Chicago:20250803T131000
DTEND;TZID=America/Chicago:20250803T170000
DTSTAMP:20260419T230448
CREATED:20250707T172226Z
LAST-MODIFIED:20250707T194527Z
UID:10000168-1754226600-1754240400@www.dsaw.org
SUMMARY:Timber Rattler Game
DESCRIPTION:Come cheer on the Timber Rattlers as they take on the Lake County Captains! Families from Fox Cities & Sheboygan chapters are invited to enjoy the game together! \nCost: $10 for seat & meal (hot dog\, chips & soda) OR $7 for seat only. \nTo join\, please buy tickets by July 18th
URL:https://www.dsaw.org/event/timber-rattler-game/
LOCATION:Fox Cities Stadium\, 2400 N Casaloma Dr\, Appleton\, 54913\, United States
CATEGORIES:Adults,Parents,Teens,Youth
END:VEVENT
END:VCALENDAR