BEGIN:VCALENDAR
VERSION:2.0
PRODID:-//Down Syndrome Association of Wisconsin - ECPv6.15.17//NONSGML v1.0//EN
CALSCALE:GREGORIAN
METHOD:PUBLISH
X-ORIGINAL-URL:https://www.dsaw.org
X-WR-CALDESC:Events for Down Syndrome Association of Wisconsin
REFRESH-INTERVAL;VALUE=DURATION:PT1H
X-Robots-Tag:noindex
X-PUBLISHED-TTL:PT1H
BEGIN:VTIMEZONE
TZID:America/Chicago
BEGIN:DAYLIGHT
TZOFFSETFROM:-0600
TZOFFSETTO:-0500
TZNAME:CDT
DTSTART:20240310T080000
END:DAYLIGHT
BEGIN:STANDARD
TZOFFSETFROM:-0500
TZOFFSETTO:-0600
TZNAME:CST
DTSTART:20241103T070000
END:STANDARD
BEGIN:DAYLIGHT
TZOFFSETFROM:-0600
TZOFFSETTO:-0500
TZNAME:CDT
DTSTART:20250309T080000
END:DAYLIGHT
BEGIN:STANDARD
TZOFFSETFROM:-0500
TZOFFSETTO:-0600
TZNAME:CST
DTSTART:20251102T070000
END:STANDARD
BEGIN:DAYLIGHT
TZOFFSETFROM:-0600
TZOFFSETTO:-0500
TZNAME:CDT
DTSTART:20260308T080000
END:DAYLIGHT
BEGIN:STANDARD
TZOFFSETFROM:-0500
TZOFFSETTO:-0600
TZNAME:CST
DTSTART:20261101T070000
END:STANDARD
END:VTIMEZONE
BEGIN:VEVENT
DTSTART;TZID=America/Chicago:20251110T080000
DTEND;TZID=America/Chicago:20251110T170000
DTSTAMP:20260419T174806
CREATED:20251110T233220Z
LAST-MODIFIED:20251110T233220Z
UID:10000223-1762761600-1762794000@www.dsaw.org
SUMMARY:Free Dinner & Movie Night - 18+ and older
DESCRIPTION:🎬 Dinner & a Movie Night! 🍝 \nJoin us for a FREE Dinner and a Movie Night for adults (18+) with Down syndrome or related intellectual/developmental disabilities! \n🗓 Thursday\, November 20\n🕓 4:45–7:45 PM\n📍 DSAW-SC Sun Prairie Center\n1009 W. Main Street (lower level of the Allstate building) \nPlease note: November’s movie night has been moved up one week earlier due to Thanksgiving. \n🎥 Movie: Freaky Friday 2\n🍽 Dinner: Pasta bar \nRegister by Sunday\, November 16 to save your spot! \n*Wear comfy clothes or PJs – please do not bring any alcohol
URL:https://www.dsaw.org/event/free-dinner-movie-night-18-and-older/
LOCATION:DSAW-South Central Center
CATEGORIES:Adults
END:VEVENT
BEGIN:VEVENT
DTSTART;TZID=America/Chicago:20251120T163000
DTEND;TZID=America/Chicago:20251120T200000
DTSTAMP:20260419T174806
CREATED:20251112T002344Z
LAST-MODIFIED:20251112T002344Z
UID:10000249-1763656200-1763668800@www.dsaw.org
SUMMARY:Free Dinner & Movie Night - 18+ and older (Freaky Friday 2)
DESCRIPTION:Join us for a FREE Dinner and a Movie Night for adults (18+) with Down syndrome or related intellectual/developmental disabilities! \n🗓 Thursday\, November 20 \n🕓 4:45–7:45 PM \n📍 DSAW-SC Sun Prairie Center \n1009 W. Main Street (lower level of the Allstate building) \nPlease note: November’s movie night has been moved up one week earlier due to Thanksgiving. \n🎥 Movie: Freaky Friday 2 \n🍽 Dinner: Pasta bar
URL:https://www.dsaw.org/event/free-dinner-movie-night-18-and-older-freaky-friday-2/
LOCATION:DSAW Sun Prairie Center\, 1009 W. Main Street\, Sun Prairie\, WI\, 53590\, United States
CATEGORIES:Adults
END:VEVENT
END:VCALENDAR