BEGIN:VCALENDAR
VERSION:2.0
PRODID:-//Down Syndrome Association of Wisconsin - ECPv6.15.17//NONSGML v1.0//EN
CALSCALE:GREGORIAN
METHOD:PUBLISH
X-ORIGINAL-URL:https://www.dsaw.org
X-WR-CALDESC:Events for Down Syndrome Association of Wisconsin
REFRESH-INTERVAL;VALUE=DURATION:PT1H
X-Robots-Tag:noindex
X-PUBLISHED-TTL:PT1H
BEGIN:VTIMEZONE
TZID:America/Chicago
BEGIN:DAYLIGHT
TZOFFSETFROM:-0600
TZOFFSETTO:-0500
TZNAME:CDT
DTSTART:20240310T080000
END:DAYLIGHT
BEGIN:STANDARD
TZOFFSETFROM:-0500
TZOFFSETTO:-0600
TZNAME:CST
DTSTART:20241103T070000
END:STANDARD
BEGIN:DAYLIGHT
TZOFFSETFROM:-0600
TZOFFSETTO:-0500
TZNAME:CDT
DTSTART:20250309T080000
END:DAYLIGHT
BEGIN:STANDARD
TZOFFSETFROM:-0500
TZOFFSETTO:-0600
TZNAME:CST
DTSTART:20251102T070000
END:STANDARD
BEGIN:DAYLIGHT
TZOFFSETFROM:-0600
TZOFFSETTO:-0500
TZNAME:CDT
DTSTART:20260308T080000
END:DAYLIGHT
BEGIN:STANDARD
TZOFFSETFROM:-0500
TZOFFSETTO:-0600
TZNAME:CST
DTSTART:20261101T070000
END:STANDARD
END:VTIMEZONE
BEGIN:VEVENT
DTSTART;TZID=America/Chicago:20251114T170000
DTEND;TZID=America/Chicago:20251114T190000
DTSTAMP:20260419T174916
CREATED:20251110T231858Z
LAST-MODIFIED:20251110T231858Z
UID:10000218-1763139600-1763146800@www.dsaw.org
SUMMARY:Indoor Playground Meet Up
DESCRIPTION:We’re excited to check out the area’s newest indoor playgroup space together. Bring the family\, meet new friends\, and enjoy a welcoming\, inclusive environment for all ages and abilities.
URL:https://www.dsaw.org/event/indoor-playground-meet-up/
LOCATION:Let’s Run Around Green Bay\, 2605 South Oneida St\, Green Bay\, WI\, United States
CATEGORIES:Families,Youth
END:VEVENT
BEGIN:VEVENT
DTSTART;TZID=America/Chicago:20251115T120000
DTEND;TZID=America/Chicago:20251115T160000
DTSTAMP:20260419T174916
CREATED:20251110T232331Z
LAST-MODIFIED:20251110T232331Z
UID:10000219-1763208000-1763222400@www.dsaw.org
SUMMARY:Shine without limits-A Talent Show
DESCRIPTION:DSAW Central is hosting a talent show showcasing the unique talents of individuals with intellectual and developmental disabilities. All ages and disabilities are welcome to participate because EVERY STAR DESERVES ITS SPOTLIGHT! A light reception will follow the performances.
URL:https://www.dsaw.org/event/shine-without-limits-a-talent-show/
LOCATION:UW-SP Wausau Campus – Veninga Theater\, 518 S. 7th Ave\, Wausau\, WI\, 54401\, United States
CATEGORIES:Families,Self-Advocates with Disabilities,Youth
END:VEVENT
BEGIN:VEVENT
DTSTART;TZID=America/Chicago:20251117T163000
DTEND;TZID=America/Chicago:20251117T183000
DTSTAMP:20260419T174916
CREATED:20251112T003748Z
LAST-MODIFIED:20251112T003748Z
UID:10000250-1763397000-1763404200@www.dsaw.org
SUMMARY:Pillars of Success: Relationships and Speed-Friending!
DESCRIPTION:Through our Pillars of Success program\, DSAW-SC is hosting three events focused on building age-appropriate relationships and meeting new friends! Join us for a fun evening learning about and cultivating peer-relationships in a safe\, comfortable environment.  \nAt each event\, you can expect:  \n– relationship/friendship skill-building and discussions \n– snacks and beverages \n– coaching related to meeting new people \n– time dedicated to meeting and getting to know your peers \nTo join\, please RSVP below. \nNovember 3 is for adults – 18+ | November 10 is for teens ages 12-17 | November 17 is for kids ages 8-12. It is for individuals with Down syndrome or related intellectual/developmental disabilities. For more information contact Abbey Wolff at awolff@dsaw.org.
URL:https://www.dsaw.org/event/pillars-of-success-relationships-and-speed-friending/
LOCATION:DSAW Sun Prairie Center\, 1009 W. Main Street\, Sun Prairie\, WI\, 53590\, United States
CATEGORIES:Youth
END:VEVENT
END:VCALENDAR