BEGIN:VCALENDAR
VERSION:2.0
PRODID:-//Down Syndrome Association of Wisconsin - ECPv6.15.17//NONSGML v1.0//EN
CALSCALE:GREGORIAN
METHOD:PUBLISH
X-WR-CALNAME:Down Syndrome Association of Wisconsin
X-ORIGINAL-URL:https://www.dsaw.org
X-WR-CALDESC:Events for Down Syndrome Association of Wisconsin
REFRESH-INTERVAL;VALUE=DURATION:PT1H
X-Robots-Tag:noindex
X-PUBLISHED-TTL:PT1H
BEGIN:VTIMEZONE
TZID:America/Chicago
BEGIN:DAYLIGHT
TZOFFSETFROM:-0600
TZOFFSETTO:-0500
TZNAME:CDT
DTSTART:20250309T080000
END:DAYLIGHT
BEGIN:STANDARD
TZOFFSETFROM:-0500
TZOFFSETTO:-0600
TZNAME:CST
DTSTART:20251102T070000
END:STANDARD
BEGIN:DAYLIGHT
TZOFFSETFROM:-0600
TZOFFSETTO:-0500
TZNAME:CDT
DTSTART:20260308T080000
END:DAYLIGHT
BEGIN:STANDARD
TZOFFSETFROM:-0500
TZOFFSETTO:-0600
TZNAME:CST
DTSTART:20261101T070000
END:STANDARD
BEGIN:DAYLIGHT
TZOFFSETFROM:-0600
TZOFFSETTO:-0500
TZNAME:CDT
DTSTART:20270314T080000
END:DAYLIGHT
BEGIN:STANDARD
TZOFFSETFROM:-0500
TZOFFSETTO:-0600
TZNAME:CST
DTSTART:20271107T070000
END:STANDARD
END:VTIMEZONE
BEGIN:VEVENT
DTSTART;TZID=America/Chicago:20260108T100000
DTEND;TZID=America/Chicago:20260108T120000
DTSTAMP:20260419T142310
CREATED:20251121T212900Z
LAST-MODIFIED:20251121T212900Z
UID:10000258-1767866400-1767873600@www.dsaw.org
SUMMARY:Grandparent Support Group
DESCRIPTION:☕ Thursday\, January 8 | 10am–Noon\n📍 JavaAbilities\, Monona \nCalling all grandparents who have a loved one with Down syndrome or a related disability! Come enjoy a warm cup of coffee\, meaningful conversation\, and a wonderful community of people who “get it.” \nDSAW-SC is covering the treats — you just bring yourself!
URL:https://www.dsaw.org/event/grandparent-support-group-sc/
LOCATION:JavaAbilities\, 5734 Monona Dr\, Monona\, WI\, United States
CATEGORIES:Grandparents
END:VEVENT
END:VCALENDAR