BEGIN:VCALENDAR
VERSION:2.0
PRODID:-//Down Syndrome Association of Wisconsin - ECPv6.15.17//NONSGML v1.0//EN
CALSCALE:GREGORIAN
METHOD:PUBLISH
X-ORIGINAL-URL:https://www.dsaw.org
X-WR-CALDESC:Events for Down Syndrome Association of Wisconsin
REFRESH-INTERVAL;VALUE=DURATION:PT1H
X-Robots-Tag:noindex
X-PUBLISHED-TTL:PT1H
BEGIN:VTIMEZONE
TZID:America/Chicago
BEGIN:DAYLIGHT
TZOFFSETFROM:-0600
TZOFFSETTO:-0500
TZNAME:CDT
DTSTART:20250309T080000
END:DAYLIGHT
BEGIN:STANDARD
TZOFFSETFROM:-0500
TZOFFSETTO:-0600
TZNAME:CST
DTSTART:20251102T070000
END:STANDARD
BEGIN:DAYLIGHT
TZOFFSETFROM:-0600
TZOFFSETTO:-0500
TZNAME:CDT
DTSTART:20260308T080000
END:DAYLIGHT
BEGIN:STANDARD
TZOFFSETFROM:-0500
TZOFFSETTO:-0600
TZNAME:CST
DTSTART:20261101T070000
END:STANDARD
BEGIN:DAYLIGHT
TZOFFSETFROM:-0600
TZOFFSETTO:-0500
TZNAME:CDT
DTSTART:20270314T080000
END:DAYLIGHT
BEGIN:STANDARD
TZOFFSETFROM:-0500
TZOFFSETTO:-0600
TZNAME:CST
DTSTART:20271107T070000
END:STANDARD
END:VTIMEZONE
BEGIN:VEVENT
DTSTART;TZID=America/Chicago:20260116T183000
DTEND;TZID=America/Chicago:20260116T203000
DTSTAMP:20260419T142357
CREATED:20251121T205754Z
LAST-MODIFIED:20251121T212559Z
UID:10000257-1768588200-1768595400@www.dsaw.org
SUMMARY:Parents of Rock Night Out
DESCRIPTION:Calling all parents and caregivers of a loved one with Down syndrome or related intellectual and developmental disability — this night is for YOU! \nJoin us Friday\, January 16\, from 6:30–8:30pm at Timber Hill Winery in Milton for connection\, conversation\, and community.\n✨ DSAW-South Central is covering the appetizers! \nWhether you’re new to the area or have been part of our community for years\, we’d love to see you there. Come relax\, meet other families\, and enjoy a warm\, welcoming evening. This event is open to all parents throughout South Central.
URL:https://www.dsaw.org/event/parents-of-rock-night-out/
LOCATION:Timber Hill Winery\, 8220 N John Paul Rd.\, Milton\, 53563\, United States
CATEGORIES:Parents
END:VEVENT
END:VCALENDAR