BEGIN:VCALENDAR
VERSION:2.0
PRODID:-//Down Syndrome Association of Wisconsin - ECPv6.15.17//NONSGML v1.0//EN
CALSCALE:GREGORIAN
METHOD:PUBLISH
X-ORIGINAL-URL:https://www.dsaw.org
X-WR-CALDESC:Events for Down Syndrome Association of Wisconsin
REFRESH-INTERVAL;VALUE=DURATION:PT1H
X-Robots-Tag:noindex
X-PUBLISHED-TTL:PT1H
BEGIN:VTIMEZONE
TZID:America/Chicago
BEGIN:DAYLIGHT
TZOFFSETFROM:-0600
TZOFFSETTO:-0500
TZNAME:CDT
DTSTART:20250309T080000
END:DAYLIGHT
BEGIN:STANDARD
TZOFFSETFROM:-0500
TZOFFSETTO:-0600
TZNAME:CST
DTSTART:20251102T070000
END:STANDARD
BEGIN:DAYLIGHT
TZOFFSETFROM:-0600
TZOFFSETTO:-0500
TZNAME:CDT
DTSTART:20260308T080000
END:DAYLIGHT
BEGIN:STANDARD
TZOFFSETFROM:-0500
TZOFFSETTO:-0600
TZNAME:CST
DTSTART:20261101T070000
END:STANDARD
BEGIN:DAYLIGHT
TZOFFSETFROM:-0600
TZOFFSETTO:-0500
TZNAME:CDT
DTSTART:20270314T080000
END:DAYLIGHT
BEGIN:STANDARD
TZOFFSETFROM:-0500
TZOFFSETTO:-0600
TZNAME:CST
DTSTART:20271107T070000
END:STANDARD
END:VTIMEZONE
BEGIN:VEVENT
DTSTART;TZID=America/Chicago:20260103T153000
DTEND;TZID=America/Chicago:20260103T173000
DTSTAMP:20260419T142530
CREATED:20251120T174936Z
LAST-MODIFIED:20251120T175035Z
UID:10000253-1767454200-1767461400@www.dsaw.org
SUMMARY:Winter Pool Party
DESCRIPTION:Beat the winter blues with a PRIVATE swim party at the amazing Stanley-Boyd Community Indoor Pool!\nThe facility features a spacious six-lane lap pool\, perfect for swimmers of all ages. Plus\, there’s a diving board and an exciting GIANT WATER OBSTACLE COURSE for endless fun! The main pool ranges from 3’6″ to 12’6″ in depth and maintains a comfortable 83º temperature. For relaxation\, enjoy the large whirlpool\, heated to 102º\, which can seat up to 19 people.\nLittle ones will love the 18′ x 32′ wading pool\, complete with a zero-depth entry and increasing to 1.5′ deep. It includes fun features like a mushroom fountain and water jets to keep them entertained! Please bring swim diapers if needed.\nWe’ll provide a light meal to keep everyone energized for all the fun. There will be small sandwiches and a couple of snacks to enjoy. Although it may be a bit of a drive\, it’s sure to be worth the trip!
URL:https://www.dsaw.org/event/winter-pool-party-cv/
LOCATION:Stanley-Boyd Community Pool\, 507 East 1st Avenue\, Stanley\, WI\, 54768\, United States
CATEGORIES:Families,Pre-K,Self-Advocates with Disabilities,Teens,Youth
END:VEVENT
END:VCALENDAR