BEGIN:VCALENDAR
VERSION:2.0
PRODID:-//Down Syndrome Association of Wisconsin - ECPv6.15.17//NONSGML v1.0//EN
CALSCALE:GREGORIAN
METHOD:PUBLISH
X-WR-CALNAME:Down Syndrome Association of Wisconsin
X-ORIGINAL-URL:https://www.dsaw.org
X-WR-CALDESC:Events for Down Syndrome Association of Wisconsin
REFRESH-INTERVAL;VALUE=DURATION:PT1H
X-Robots-Tag:noindex
X-PUBLISHED-TTL:PT1H
BEGIN:VTIMEZONE
TZID:America/Chicago
BEGIN:DAYLIGHT
TZOFFSETFROM:-0600
TZOFFSETTO:-0500
TZNAME:CDT
DTSTART:20250309T080000
END:DAYLIGHT
BEGIN:STANDARD
TZOFFSETFROM:-0500
TZOFFSETTO:-0600
TZNAME:CST
DTSTART:20251102T070000
END:STANDARD
BEGIN:DAYLIGHT
TZOFFSETFROM:-0600
TZOFFSETTO:-0500
TZNAME:CDT
DTSTART:20260308T080000
END:DAYLIGHT
BEGIN:STANDARD
TZOFFSETFROM:-0500
TZOFFSETTO:-0600
TZNAME:CST
DTSTART:20261101T070000
END:STANDARD
BEGIN:DAYLIGHT
TZOFFSETFROM:-0600
TZOFFSETTO:-0500
TZNAME:CDT
DTSTART:20270314T080000
END:DAYLIGHT
BEGIN:STANDARD
TZOFFSETFROM:-0500
TZOFFSETTO:-0600
TZNAME:CST
DTSTART:20271107T070000
END:STANDARD
END:VTIMEZONE
BEGIN:VEVENT
DTSTART;TZID=America/Chicago:20260305T180000
DTEND;TZID=America/Chicago:20260305T200000
DTSTAMP:20260419T105335
CREATED:20260210T221432Z
LAST-MODIFIED:20260210T221432Z
UID:10000697-1772733600-1772740800@www.dsaw.org
SUMMARY:Moms and Me and Grandmas Take 5 CRAFT NIGHT
DESCRIPTION:Join other moms\, kids\, and grandmas for a fun and creative night of crafting and connection! All supplies and snacks are provided for FREE on Thursday\, March 5\, from 6–8 PM at McFarland Lutheran Church. Please enter through the back entrance.
URL:https://www.dsaw.org/event/moms-and-me-and-grandmas-take-5-craft-night/
LOCATION:McFarland Lutheran Church\, 5529 Marsh Road\, McFarland\, WI\, United States
CATEGORIES:Families,Grandparents,Moms
END:VEVENT
BEGIN:VEVENT
DTSTART;TZID=America/Chicago:20260312T100000
DTEND;TZID=America/Chicago:20260312T120000
DTSTAMP:20260419T105335
CREATED:20260106T210609Z
LAST-MODIFIED:20260106T210609Z
UID:10000275-1773309600-1773316800@www.dsaw.org
SUMMARY:Grandparents Group
DESCRIPTION:☕💙 Grandparents Group — You’re Invited! 💙☕ \nJoin us on Thursday\, March 12 from 10am–Noon at JavaAbilities on Monona Drive for a relaxed and welcoming gathering. This is a chance to connect with other grandparents who have a loved one with Down syndrome or a related disability\, share stories\, offer support\, and enjoy meaningful conversation in a warm\, inclusive space. \n✨ DSAW-SC will cover the treats\, so just bring yourself and enjoy the coffee\, community\, and connection. We’d love to see you there! 💛
URL:https://www.dsaw.org/event/grandparents-group-11/
LOCATION:JavaAbilities\, 5734 Monona Dr\, Monona\, WI\, United States
CATEGORIES:Grandparents
END:VEVENT
BEGIN:VEVENT
DTSTART;TZID=America/Chicago:20260330T164500
DTEND;TZID=America/Chicago:20260330T200000
DTSTAMP:20260419T105335
CREATED:20260217T204432Z
LAST-MODIFIED:20260217T204432Z
UID:10000770-1774889100-1774900800@www.dsaw.org
SUMMARY:Pizza Ranch Fundraiser - Volunteers Needed!
DESCRIPTION:Join us on Monday\, March 30 from 4:45–8:00 PM at Pizza Ranch – 682 S. Grand Ave for a DSAW–South Central fundraiser. We have two volunteer shifts available (4:45–6:15 PM and 6:15–8:00 PM)\, and anyone age 12+ can volunteer (youth must have a parent/caregiver present). DSAW–South Central will receive 10% of all sales that evening\, including dine-in and carryout\, so please invite family and friends to participate.
URL:https://www.dsaw.org/event/pizza-ranch-fundraiser-volunteers-needed-2/
LOCATION:Pizza Ranch Sun Prairie\, 682 S. Grand Ave\, Sun Prairie\, WI\, 53590\, United States
CATEGORIES:12 years and older,Dads,Families,Friends,Grandparents,Moms,Self-Advocates with Disabilities,Teens,Volunteers
END:VEVENT
BEGIN:VEVENT
DTSTART;TZID=America/Chicago:20260331T190000
DTEND;TZID=America/Chicago:20260331T200000
DTSTAMP:20260419T105335
CREATED:20260319T215822Z
LAST-MODIFIED:20260319T222043Z
UID:10000882-1774983600-1774987200@www.dsaw.org
SUMMARY:Transition To Adulthood Parent/Caregiver Support Group
DESCRIPTION:DSAW hosts a virtual support group for parents and caregivers with a loved one transitioning to adulthood. Engage in conversation with others about the many topics that are present during this transition age (approx. 15-25).
URL:https://www.dsaw.org/event/transition-to-adulthood-parent-caregiver-support-group/
CATEGORIES:Grandparents,Guardian,Parents
LOCATION:
END:VEVENT
END:VCALENDAR