BEGIN:VCALENDAR
VERSION:2.0
PRODID:-//Down Syndrome Association of Wisconsin - ECPv6.15.17//NONSGML v1.0//EN
CALSCALE:GREGORIAN
METHOD:PUBLISH
X-ORIGINAL-URL:https://www.dsaw.org
X-WR-CALDESC:Events for Down Syndrome Association of Wisconsin
REFRESH-INTERVAL;VALUE=DURATION:PT1H
X-Robots-Tag:noindex
X-PUBLISHED-TTL:PT1H
BEGIN:VTIMEZONE
TZID:America/Chicago
BEGIN:DAYLIGHT
TZOFFSETFROM:-0600
TZOFFSETTO:-0500
TZNAME:CDT
DTSTART:20250309T080000
END:DAYLIGHT
BEGIN:STANDARD
TZOFFSETFROM:-0500
TZOFFSETTO:-0600
TZNAME:CST
DTSTART:20251102T070000
END:STANDARD
BEGIN:DAYLIGHT
TZOFFSETFROM:-0600
TZOFFSETTO:-0500
TZNAME:CDT
DTSTART:20260308T080000
END:DAYLIGHT
BEGIN:STANDARD
TZOFFSETFROM:-0500
TZOFFSETTO:-0600
TZNAME:CST
DTSTART:20261101T070000
END:STANDARD
BEGIN:DAYLIGHT
TZOFFSETFROM:-0600
TZOFFSETTO:-0500
TZNAME:CDT
DTSTART:20270314T080000
END:DAYLIGHT
BEGIN:STANDARD
TZOFFSETFROM:-0500
TZOFFSETTO:-0600
TZNAME:CST
DTSTART:20271107T070000
END:STANDARD
END:VTIMEZONE
BEGIN:VEVENT
DTSTART;TZID=America/Chicago:20260307T090000
DTEND;TZID=America/Chicago:20260307T113000
DTSTAMP:20260419T105459
CREATED:20260109T164840Z
LAST-MODIFIED:20260109T164840Z
UID:10000339-1772874000-1772883000@www.dsaw.org
SUMMARY:Waisman Center Day with the Experts: Down Syndrome
DESCRIPTION:Learn about advances in research and clinical services and hear from a panel of experts—individuals with Down syndrome and family members. You can attend in person or virtually. \nIf joining in person it is being held in the Wiley Conference Center inside the Waisman Center\, you are welcome to join us starting at 8:30am for refreshments. \n 
URL:https://www.dsaw.org/event/waisman-center-day-with-the-experts-down-syndrome-2/
LOCATION:Waisman Center\, 1500 Highland Ave\, Madison\, WI\, 53705\, United States
CATEGORIES:Educational,General Public,Parents,Self-Advocates with Disabilities
END:VEVENT
BEGIN:VEVENT
DTSTART;TZID=America/Chicago:20260313T180000
DTEND;TZID=America/Chicago:20260313T180000
DTSTAMP:20260419T105459
CREATED:20260217T200533Z
LAST-MODIFIED:20260217T200729Z
UID:10000765-1773424800-1773424800@www.dsaw.org
SUMMARY:Parents' Night Out!
DESCRIPTION:Need a break? Come hang with us for a relaxing night of good food and great company! DSAW will purchase pizza and non-alcoholic beverages. This is your chance to unwind and connect with other DSAW parents/guardians. RSVP by March 10\, 2026
URL:https://www.dsaw.org/event/parents-night-out-6/
LOCATION:Rosati’s Pizza\, 745 S Huron Rd\, Green Bay\, WI\, 54311\, United States
CATEGORIES:Parents
END:VEVENT
BEGIN:VEVENT
DTSTART;TZID=America/Chicago:20260331T190000
DTEND;TZID=America/Chicago:20260331T200000
DTSTAMP:20260419T105459
CREATED:20260319T215822Z
LAST-MODIFIED:20260319T222043Z
UID:10000882-1774983600-1774987200@www.dsaw.org
SUMMARY:Transition To Adulthood Parent/Caregiver Support Group
DESCRIPTION:DSAW hosts a virtual support group for parents and caregivers with a loved one transitioning to adulthood. Engage in conversation with others about the many topics that are present during this transition age (approx. 15-25).
URL:https://www.dsaw.org/event/transition-to-adulthood-parent-caregiver-support-group/
CATEGORIES:Grandparents,Guardian,Parents
LOCATION:
END:VEVENT
END:VCALENDAR