BEGIN:VCALENDAR
VERSION:2.0
PRODID:-//Down Syndrome Association of Wisconsin - ECPv6.15.17//NONSGML v1.0//EN
CALSCALE:GREGORIAN
METHOD:PUBLISH
X-ORIGINAL-URL:https://www.dsaw.org
X-WR-CALDESC:Events for Down Syndrome Association of Wisconsin
REFRESH-INTERVAL;VALUE=DURATION:PT1H
X-Robots-Tag:noindex
X-PUBLISHED-TTL:PT1H
BEGIN:VTIMEZONE
TZID:America/Chicago
BEGIN:DAYLIGHT
TZOFFSETFROM:-0600
TZOFFSETTO:-0500
TZNAME:CDT
DTSTART:20250309T080000
END:DAYLIGHT
BEGIN:STANDARD
TZOFFSETFROM:-0500
TZOFFSETTO:-0600
TZNAME:CST
DTSTART:20251102T070000
END:STANDARD
BEGIN:DAYLIGHT
TZOFFSETFROM:-0600
TZOFFSETTO:-0500
TZNAME:CDT
DTSTART:20260308T080000
END:DAYLIGHT
BEGIN:STANDARD
TZOFFSETFROM:-0500
TZOFFSETTO:-0600
TZNAME:CST
DTSTART:20261101T070000
END:STANDARD
BEGIN:DAYLIGHT
TZOFFSETFROM:-0600
TZOFFSETTO:-0500
TZNAME:CDT
DTSTART:20270314T080000
END:DAYLIGHT
BEGIN:STANDARD
TZOFFSETFROM:-0500
TZOFFSETTO:-0600
TZNAME:CST
DTSTART:20271107T070000
END:STANDARD
END:VTIMEZONE
BEGIN:VEVENT
DTSTART;TZID=America/Chicago:20260326T164500
DTEND;TZID=America/Chicago:20260326T194500
DTSTAMP:20260419T105622
CREATED:20260210T215737Z
LAST-MODIFIED:20260210T215737Z
UID:10000696-1774543500-1774554300@www.dsaw.org
SUMMARY:DSAW-South Central Movie & Dinner Night for 18+
DESCRIPTION:Join DSAW–South Central for a FREE Dinner & a Movie Night for adults 18+ with Down syndrome or related disabilities! Enjoy a fun evening of food\, film\, and friendship at our Sun Prairie Center on the last Thursday of each month from 4:45–7:45 PM. The movie and meal change each month\, so there’s always something new to enjoy. Please register in advance and list any allergies or dietary needs in the comments section. \nThe movie for March 26th is High School Musical and dinner is Pasta & Garlic Bread!\nPlease register by Sunday\, March 22nd \n📍 Where: DSAW–South Central Sun Prairie Center\n1009 W. Main St. Sun Prairie\, WI 53590 \n❓ Questions or concerns?\nContact Abbey Wolff at awolff@dsaw.org \nWe can’t wait to share a fun night of movies\, meals\, and friendship with you! 🍿✨\nNo alcohol please – wear comfy PJs
URL:https://www.dsaw.org/event/dsaw-south-central-movie-dinner-night-for-18-3/
LOCATION:DSAW Sun Prairie Center\, 1009 W. Main Street\, Sun Prairie\, WI\, 53590\, United States
CATEGORIES:Adults,Self-Advocates with Disabilities
END:VEVENT
END:VCALENDAR