BEGIN:VCALENDAR
VERSION:2.0
PRODID:-//Down Syndrome Association of Wisconsin - ECPv6.15.17//NONSGML v1.0//EN
CALSCALE:GREGORIAN
METHOD:PUBLISH
X-ORIGINAL-URL:https://www.dsaw.org
X-WR-CALDESC:Events for Down Syndrome Association of Wisconsin
REFRESH-INTERVAL;VALUE=DURATION:PT1H
X-Robots-Tag:noindex
X-PUBLISHED-TTL:PT1H
BEGIN:VTIMEZONE
TZID:America/Chicago
BEGIN:DAYLIGHT
TZOFFSETFROM:-0600
TZOFFSETTO:-0500
TZNAME:CDT
DTSTART:20250309T080000
END:DAYLIGHT
BEGIN:STANDARD
TZOFFSETFROM:-0500
TZOFFSETTO:-0600
TZNAME:CST
DTSTART:20251102T070000
END:STANDARD
BEGIN:DAYLIGHT
TZOFFSETFROM:-0600
TZOFFSETTO:-0500
TZNAME:CDT
DTSTART:20260308T080000
END:DAYLIGHT
BEGIN:STANDARD
TZOFFSETFROM:-0500
TZOFFSETTO:-0600
TZNAME:CST
DTSTART:20261101T070000
END:STANDARD
BEGIN:DAYLIGHT
TZOFFSETFROM:-0600
TZOFFSETTO:-0500
TZNAME:CDT
DTSTART:20270314T080000
END:DAYLIGHT
BEGIN:STANDARD
TZOFFSETFROM:-0500
TZOFFSETTO:-0600
TZNAME:CST
DTSTART:20271107T070000
END:STANDARD
END:VTIMEZONE
BEGIN:VEVENT
DTSTART;TZID=America/Chicago:20260509T090000
DTEND;TZID=America/Chicago:20260509T110000
DTSTAMP:20260420T073258
CREATED:20260406T184132Z
LAST-MODIFIED:20260406T184132Z
UID:10000890-1778317200-1778324400@www.dsaw.org
SUMMARY:Family Playgroup for 0-6 year olds
DESCRIPTION:Do you have a child with Down syndrome or a related disability who is 6 years old or younger? Come join us for a fun & welcoming playgroup designed just for you! This is a wonderful opportunity to meet other families\, share experiences and resources & build lasting friendships—all while your little ones play and explore in a supportive environment. \nNote: Consider street parking at the top of the library on Schluter Road as the Children’s Section is right inside that door.
URL:https://www.dsaw.org/event/family-playgroup-for-0-6-year-olds/
LOCATION:Monona Public Library\, 1000 Nichols Rd.\, Monona\, WI\, 53716-3461\, United States
CATEGORIES:Families,Under 6
END:VEVENT
END:VCALENDAR