BEGIN:VCALENDAR
VERSION:2.0
PRODID:-//Down Syndrome Association of Wisconsin - ECPv6.15.17//NONSGML v1.0//EN
CALSCALE:GREGORIAN
METHOD:PUBLISH
X-ORIGINAL-URL:https://www.dsaw.org
X-WR-CALDESC:Events for Down Syndrome Association of Wisconsin
REFRESH-INTERVAL;VALUE=DURATION:PT1H
X-Robots-Tag:noindex
X-PUBLISHED-TTL:PT1H
BEGIN:VTIMEZONE
TZID:America/Chicago
BEGIN:DAYLIGHT
TZOFFSETFROM:-0600
TZOFFSETTO:-0500
TZNAME:CDT
DTSTART:20250309T080000
END:DAYLIGHT
BEGIN:STANDARD
TZOFFSETFROM:-0500
TZOFFSETTO:-0600
TZNAME:CST
DTSTART:20251102T070000
END:STANDARD
BEGIN:DAYLIGHT
TZOFFSETFROM:-0600
TZOFFSETTO:-0500
TZNAME:CDT
DTSTART:20260308T080000
END:DAYLIGHT
BEGIN:STANDARD
TZOFFSETFROM:-0500
TZOFFSETTO:-0600
TZNAME:CST
DTSTART:20261101T070000
END:STANDARD
BEGIN:DAYLIGHT
TZOFFSETFROM:-0600
TZOFFSETTO:-0500
TZNAME:CDT
DTSTART:20270314T080000
END:DAYLIGHT
BEGIN:STANDARD
TZOFFSETFROM:-0500
TZOFFSETTO:-0600
TZNAME:CST
DTSTART:20271107T070000
END:STANDARD
END:VTIMEZONE
BEGIN:VEVENT
DTSTART;TZID=America/Chicago:20260502T100000
DTEND;TZID=America/Chicago:20260502T113000
DTSTAMP:20260419T102350
CREATED:20260304T034427Z
LAST-MODIFIED:20260304T034427Z
UID:10000802-1777716000-1777721400@www.dsaw.org
SUMMARY:Mother's Day Party
DESCRIPTION:💐✨ Celebrate Mother’s Day with Us! ✨💐 \nIn honor of Mother’s Day\, join us for a special FREE Mom & Me Party on Saturday\, May 2\, from 10:00–11:30 AM at The Curious Crafter. \nMoms\, Grandmas\, and their children are invited to enjoy a relaxed\, joy-filled morning creating together. We’ll have a variety of fun\, spring-inspired craft stations set up for a free-flowing\, hands-on art experience — choose the projects that spark your creativity and make meaningful memories side by side. \nThis event is designed for Moms and Grandmas who have a loved one with Down syndrome or a related disability. Siblings are warmly welcomed and encouraged to join the celebration\, too! \nCome create\, connect\, and celebrate the amazing women in our lives. 🌸💖
URL:https://www.dsaw.org/event/mothers-day-party/
LOCATION:The Curious Crafter\, 4678 Cottage Grove Rd.\, Madison\, WI\, 53715\, United States
CATEGORIES:Moms
END:VEVENT
BEGIN:VEVENT
DTSTART;TZID=America/Chicago:20260505T180000
DTEND;TZID=America/Chicago:20260505T200000
DTSTAMP:20260419T102350
CREATED:20260406T220532Z
LAST-MODIFIED:20260406T220532Z
UID:10000895-1778004000-1778011200@www.dsaw.org
SUMMARY:Moms Take 5 Night Out
DESCRIPTION:Join other Moms who have a loved one with Down syndrome or related disability for great conversation\, community\, and food. DSAW-SC will cover some of the costs.
URL:https://www.dsaw.org/event/moms-take-5-night-out/
LOCATION:Nori Sushi & Grill – West\, 2911 University Ave\, Madison\, 53705\, United States
CATEGORIES:Moms
END:VEVENT
END:VCALENDAR