BEGIN:VCALENDAR
VERSION:2.0
PRODID:-//Down Syndrome Association of Wisconsin - ECPv6.15.17//NONSGML v1.0//EN
CALSCALE:GREGORIAN
METHOD:PUBLISH
X-ORIGINAL-URL:https://www.dsaw.org
X-WR-CALDESC:Events for Down Syndrome Association of Wisconsin
REFRESH-INTERVAL;VALUE=DURATION:PT1H
X-Robots-Tag:noindex
X-PUBLISHED-TTL:PT1H
BEGIN:VTIMEZONE
TZID:America/Chicago
BEGIN:DAYLIGHT
TZOFFSETFROM:-0600
TZOFFSETTO:-0500
TZNAME:CDT
DTSTART:20250309T080000
END:DAYLIGHT
BEGIN:STANDARD
TZOFFSETFROM:-0500
TZOFFSETTO:-0600
TZNAME:CST
DTSTART:20251102T070000
END:STANDARD
BEGIN:DAYLIGHT
TZOFFSETFROM:-0600
TZOFFSETTO:-0500
TZNAME:CDT
DTSTART:20260308T080000
END:DAYLIGHT
BEGIN:STANDARD
TZOFFSETFROM:-0500
TZOFFSETTO:-0600
TZNAME:CST
DTSTART:20261101T070000
END:STANDARD
BEGIN:DAYLIGHT
TZOFFSETFROM:-0600
TZOFFSETTO:-0500
TZNAME:CDT
DTSTART:20270314T080000
END:DAYLIGHT
BEGIN:STANDARD
TZOFFSETFROM:-0500
TZOFFSETTO:-0600
TZNAME:CST
DTSTART:20271107T070000
END:STANDARD
END:VTIMEZONE
BEGIN:VEVENT
DTSTART;TZID=America/Chicago:20260613T090000
DTEND;TZID=America/Chicago:20260613T110000
DTSTAMP:20260420T090754
CREATED:20260419T212238Z
LAST-MODIFIED:20260419T212238Z
UID:10000907-1781341200-1781348400@www.dsaw.org
SUMMARY:Playgroup for 6 and younger
DESCRIPTION:Have a child (age 0–6) with Down syndrome or a related disability? Come play\, connect\, and make new friends at Frautschi Family Inclusive Playground near Warner Park in Madison.\n💙Siblings welcome! Invite other families with a loved one with Down syndrome/related disability.
URL:https://www.dsaw.org/event/playgroup-for-6-and-younger/
LOCATION:Frautschi Family Inclusive Playground\, Rainbow Center 2930 N. Sherman Ave.\, Madison\, 53704\, United States
CATEGORIES:Families,Under 6
END:VEVENT
END:VCALENDAR